BEGIN:VCALENDAR
VERSION:2.0
PRODID:-//Darul Ihsan University
CALSCALE:GREGORIAN
METHOD:PUBLISH
X-WR-CALNAME:Darul Ihsan University
X-ORIGINAL-URL:https://diu-edubd.com/event/jane-the-virgin-season-5-episode-10-chapter-ninety-one-watch-online/
X-WR-CALDESC:Jane the Virgin season 5, episode 10 Chapter Ninety-One: Watch online
BEGIN:VEVENT
DTSTART:
DTEND:
SUMMARY:Jane the Virgin season 5, episode 10 Chapter Ninety-One: Watch online
DESCRIPTION:
LOCATION:
END:VEVENT
END:VCALENDAR
