BEGIN:VCALENDAR
VERSION:2.0
PRODID:-//Darul Ihsan University
CALSCALE:GREGORIAN
METHOD:PUBLISH
X-WR-CALNAME:Darul Ihsan University
X-ORIGINAL-URL:https://diu-edubd.com/event/watch-keeping-up-with-the-kardashians-season-16-episode-9-christmas-chaos-full-online/
X-WR-CALDESC:WATCH Keeping Up with the Kardashians Season 16 Episode 9 &#8220;Christmas Chaos&#8221; Full Online
BEGIN:VEVENT
DTSTART:
DTEND:
SUMMARY:WATCH Keeping Up with the Kardashians Season 16 Episode 9 &#8220;Christmas Chaos&#8221; Full Online
DESCRIPTION:
LOCATION:
END:VEVENT
END:VCALENDAR
